BEGIN:VCALENDAR
VERSION:2.0
PRODID:-//hacksw/handcal//NONSGML v1.0//EN
CALSCALE:GREGORIAN
BEGIN:VEVENT
LOCATION:Field House
DESCRIPTION:
DTSTART:20260423T130000Z
DTEND:20260423T210000Z
SUMMARY:Career Fair
URL;VALUE=URI:https://bloomtrail.org/event/career-fair/
DTSTAMP:20260422T144917Z
UID:69e8dfedd1161
END:VEVENT
END:VCALENDAR