BEGIN:VCALENDAR
VERSION:2.0
PRODID:-//hacksw/handcal//NONSGML v1.0//EN
CALSCALE:GREGORIAN
BEGIN:VEVENT
LOCATION:Bloom Trail Neubauer Auditorium
DESCRIPTION:
DTSTART:20260425T230000Z
DTEND:20260426T003000Z
SUMMARY:Spring Band Concert
URL;VALUE=URI:https://bloomtrail.org/event/spring-band-concert-2/
DTSTAMP:20260423T154613Z
UID:69ea3ec52b52a
END:VEVENT
END:VCALENDAR