BEGIN:VCALENDAR
VERSION:2.0
PRODID:-//hacksw/handcal//NONSGML v1.0//EN
CALSCALE:GREGORIAN
BEGIN:VEVENT
LOCATION:
DESCRIPTION:
DTSTART:20260428T000000Z
DTEND:20260428T000000Z
SUMMARY:STAR Reading & Math Assessments & SEL Survey
URL;VALUE=URI:https://bloomtrail.org/event/star-reading-math-assessments-sel-survey/
DTSTAMP:20260424T070941Z
UID:69eb1735ebe40
END:VEVENT
END:VCALENDAR